BEGIN:VCALENDAR
VERSION:2.0
PRODID:-//wp-events-plugin.com//7.2.3.1//EN
TZID:Europe/Berlin
X-WR-TIMEZONE:Europe/Berlin
BEGIN:VEVENT
UID:128@soumaya-hiltmann.com
DTSTART;TZID=Europe/Berlin:20260607T110000
DTEND;TZID=Europe/Berlin:20260607T180000
DTSTAMP:20251214T120736Z
URL:https://www.soumaya-hiltmann.com/en/events/frauenkreise-2026/
SUMMARY:Frauenkreis 2026/27
DESCRIPTION:[et_pb_section fb_built="1" _builder_version="4.27.4" _module_p
 reset="default" use_background_color_gradient="on" background_color_gradie
 nt_stops="rgba(255\,255\,255\,0.8) 0%|rgba(255\,255\,255\,0.8) 100%" backg
 round_color_gradient_overlays_image="on" background_image="https://www.sou
 maya-hiltmann.com/wp-content/uploads/2024/12/1-bf766c22-badb-42eb-8815-ec3
 ebf98de60-1024x400.jpg" custom_padding="5px|5px|5px|5px|true|true" global_
 colors_info="{}"][et_pb_row _builder_version="4.16" _module_preset="defaul
 t" positioning="none" width="102%" global_colors_info="{}"][et_pb_column t
 ype="4_4" _builder_version="4.16" _module_preset="default" positioning="no
 ne" global_colors_info="{}"][et_pb_text _builder_version="4.27.5" _module_
 preset="default" header_font="Caveat||||||||" header_font_size="20px" head
 er_2_font="--et_global_heading_font||||||||" header_2_font_size="14px" hea
 der_2_line_height="1.7em" header_3_font="Caveat||||||||" custom_padding="|
 3px||3px|false|false" hover_enabled="0" header_3_font_size_tablet="" heade
 r_3_font_size_phone="" header_3_font_size_last_edited="on|desktop" global_
 colors_info="{}" sticky_enabled="0"]Frauenkreise 2026/27„Der Ruf der Gö
 ttin in Dir“\nSonntag\, 07.06.2026 &amp\; Fruenkreis elf Mon(d)tag-Abend
 e in Berlin-Schöneberg\nEin Frauenjahreskreis zum Beginn der zweiten Lebe
 nsspirale – getragen vonMusik\, Tanz\, Meditation\, Ritualen und Gemeins
 chaft.\nDich erwartet ein achtsamer\, geschützter und liebevoll gehaltene
 r Raum\,in dem sanfte\, stille und friedvolle ebenso wie laute\, kraftvoll
 e und lebendige Prozesse willkommen sind.Ein Raum zum Spüren\, Erinnern\,
  Ausprobieren\, Erkennen\, Entscheiden\, Ausbalancieren\,Bewahren und Vert
 iefen der göttlichen Wirklichkeit in Dir.\nGemeinsam öffnen wir uns für
  die eigenen\, verborgenen und kollektiven Träumeund Schätze der Großen
  Mutter – um sie in tiefer Ruhe\, Harmonie und Frieden zu empfangenund d
 urch uns lebendig werden zu lassen.\nDu erhältst regelmäßige\, alltagst
 augliche Impulse und Übungen\, inspiriert vonden Qualitäten verschiedene
 r Göttinnen. In der Geborgenheit der Gemeinschaft kannst Dutiefe Weisheit
  erkennen\, Vertrauen stärken und die natürliche Heilkraft Deiner eigene
 n Mittekontinuierlich nähren – damit sie mühelos in Deinen Alltag flie
 ßt.\n\n✨ Auftakt-Sonntag\nSonntag\, 07.06.2026 | 11:00 – 18:00 Uhr„
 Der Ruf der Göttin in Dir“(Der Sonntag ist auch einzeln buchbar)\n\n
 🌙 Die Mon(d)tag-Abende\njeweils 19:00 – 21:00 Uhr\n\n06.07.2026 – G
 aia · Mutter Erde\n24.08.2026 – Kali · Erneuerung\n14.09.2026 – Amat
 erasu · Sonnengöttin\n12.10.2026 – Demeter · Fruchtbarkeit\n16.11.202
 6 – Bastet · Schutz &amp\; Freude\n14.12.2026 – Freya · Liebe &amp\;
  Magie\n18.01.2027 – Isis · Muttergöttin\n15.02.2027 – Oshun · Sinn
 lichkeit\n15.03.2027 – Brigid · Heilung &amp\; Kunst\n20.04.2027 – Ye
 maya · Meeresgöttin\n24.05.2027 – Artemis · Mondgöttin\n\n\n💫 Wer
  dich erwartet\nSoumayaSeelenbegleiterin\, Musikerin &amp\; Gesangslehreri
 nZertifizierte Meditations- und Tanzleiterin der Tänze des Universellen F
 riedensMantrensingkreise &amp\; SufipraxisLeitung von Frauen- und Heilkrei
 sen mit jahrzehntelanger Erfahrung\nTief verbunden mit der Weisheit der Gr
 oßen Mutter in ihrer Vielfalt\, Liebe und Offenheit.Es sind keine Vorerfa
 hrungen notwendig.\n\n💶 Energieausgleich\nSonntag\, 07.06.2026 (11–18
  Uhr): 128 €11 Montagabende: 308 €Gesamt: 436 €\n🌿 Early Bird (bi
 s 15.03.2026)Sonntag: 108 €Sonntag &amp\; 11 Montage: 300 € (gesamt 40
 8 €)\n🎄 WeihnachtsrabattBei Anmeldung &amp\; Überweisung bis 31.12.2
 025Workshop &amp\; 11 Montage: 398 €\n\n📍 Ort\nVoice Artist Coaching 
 StudioGrunewaldstr. 8510823 Berlin\n\n📩 Anmeldung &amp\; Teilnahme\nSta
 rt ab 6–10 TeilnehmerinnenAnmeldung per Mail: info@soumaya-hiltmann.comT
 elefon: 0163 / 158 50 66\nAnmeldung und Überweisung bitte bis 01.05.2026(
 Anmeldeformular &amp\; Kontoverbindung per Mail)[/et_pb_text][et_pb_image 
 src="https://www.soumaya-hiltmann.com/wp-content/uploads/2022/11/Soumaya_G
 itarre.jpg" alt="heilsames Wochenende" title_text="Soumaya_Gitarre" align=
 "center" _builder_version="4.27.4" _module_preset="default" height="290px"
  global_colors_info="{}"][/et_pb_image][/et_pb_column][/et_pb_row][et_pb_r
 ow column_structure="1_4\,1_4\,1_4\,1_4" _builder_version="4.27.4" _module
 _preset="default" background_color="#ffa99e" width="100%" border_radii="on
 |10px|10px|10px|10px" global_colors_info="{}"][et_pb_column type="1_4" _bu
 ilder_version="4.18.0" _module_preset="default" global_colors_info="{}"][e
 t_pb_cta title="AGB" button_url="https://www.soumaya-hiltmann.com/wp-conte
 nt/uploads/2024/12/AGB-WE-Seminar.pdf" url_new_window="on" button_text="Do
 wnload" disabled_on="off|off|off" admin_label="AGB" _builder_version="4.27
 .4" _module_preset="default" header_level="h4" header_font_size="14px" use
 _background_color="off" custom_button="on" button_text_color="#8300E9" but
 ton_border_color="#8300E9" button_icon_color="#8300E9" global_colors_info=
 "{}"][/et_pb_cta][/et_pb_column][et_pb_column type="1_4" _builder_version=
 "4.18.0" _module_preset="default" global_colors_info="{}"][et_pb_cta title
 ="Anmeldeformular" button_url="https://www.soumaya-hiltmann.com/wp-content
 /uploads/2024/12/Anmeldung-fuer-alle-Gruppenangebote-mit-Soumaya-Hiltmann.
 pdf" url_new_window="on" button_text="Download" disabled_on="off|off|off" 
 admin_label="Anmeldeformular" _builder_version="4.27.4" _module_preset="de
 fault" header_level="h4" header_font_size="14px" use_background_color="off
 " custom_button="on" button_text_color="#8300E9" button_border_color="#830
 0E9" button_icon_color="#8300E9" global_colors_info="{}"][/et_pb_cta][/et_
 pb_column][et_pb_column type="1_4" _builder_version="4.18.0" _module_prese
 t="default" global_colors_info="{}"][et_pb_cta title="Flyer" button_url="h
 ttps://www.soumaya-hiltmann.com/wp-content/uploads/2025/12/Goettinnen-Frau
 enkreis-Flyer-2026.pdf" url_new_window="on" button_text="Download" disable
 d_on="off|off|off" admin_label="Flyer" _builder_version="4.27.5" _module_p
 reset="default" header_level="h4" header_font_size="14px" use_background_c
 olor="off" custom_button="on" button_text_color="#8300E9" button_border_co
 lor="#8300E9" button_icon_color="#8300E9" global_colors_info="{}"][/et_pb_
 cta][/et_pb_column][et_pb_column type="1_4" _builder_version="4.18.0" _mod
 ule_preset="default" global_colors_info="{}"][et_pb_cta title="Datenschutz
 info" button_url="https://www.soumaya-hiltmann.com/wp-content/uploads/2024
 /12/Datenschutzinfo.pdf" url_new_window="on" button_text="Download" admin_
 label="Datenschutzinfo" _builder_version="4.27.4" _module_preset="default"
  header_level="h4" header_font_size="14px" use_background_color="off" cust
 om_button="on" button_text_color="#8300E9" button_border_color="#8300E9" b
 utton_icon_color="#8300E9" global_colors_info="{}"][/et_pb_cta][/et_pb_col
 umn][/et_pb_row][/et_pb_section]
ATTACH;FMTTYPE=image/jpeg:https://www.soumaya-hiltmann.com/wp-content/uplo
 ads/2024/12/Frauenkreis.png
CATEGORIES:Frauenkreise
LOCATION:Voice-Artist-Coaching-Studio\, Grunewaldstraße 85\, Berlin\, Berl
 in\, 10823\, Germany
GEO:52.490065;13.355812
X-APPLE-STRUCTURED-LOCATION;VALUE=URI;X-ADDRESS=Grunewaldstraße 85\, Berli
 n\, Berlin\, 10823\, Germany;X-APPLE-RADIUS=100;X-TITLE=Voice-Artist-Coach
 ing-Studio:geo:52.490065,13.355812
END:VEVENT
BEGIN:VTIMEZONE
TZID:Europe/Berlin
X-LIC-LOCATION:Europe/Berlin
BEGIN:DAYLIGHT
DTSTART:20260329T030000
TZOFFSETFROM:+0100
TZOFFSETTO:+0200
TZNAME:CEST
END:DAYLIGHT
END:VTIMEZONE
END:VCALENDAR